BEGIN:VCALENDAR
VERSION:2.0
PRODID:-//Bradeur.fr//FR
CALSCALE:GREGORIAN
METHOD:PUBLISH
BEGIN:VEVENT
UID:578-rpi-hardinghen-hermelinghen-association-des-troubadours-rpi-puericu
 lture@bradeur.fr
DTSTAMP:20260425T181004Z
DTSTART:20260329T090000
DTEND:20260329T170000
SUMMARY:RPI Hardinghen Hermelinghen + Association des Troubadours — Rpi P
 uericulture
DESCRIPTION:Site internet de la commune de Hardinghen. Informations pratiqu
 es, actualités et découverte de la commune.\n\nDimanche 29 Mars 2026\nde 
 9h00 à 17h00\n\nRPI Hardinghen Hermelinghen + Association des Troubadours\
 n62132 Hardinghen
LOCATION:62132 Hardinghen
URL:https://bradeur.fr/braderie.php?slug=rpi-hardinghen-hermelinghen-associ
 ation-des-troubadours-rpi-puericulture
END:VEVENT
END:VCALENDAR
