BEGIN:VCALENDAR
VERSION:2.0
PRODID:-//Bradeur.fr//FR
CALSCALE:GREGORIAN
METHOD:PUBLISH
BEGIN:VEVENT
UID:656-secours-populaire-comite-de-verrieres-le-buisson-braderie@bradeur.f
 r
DTSTAMP:20260425T180507Z
DTSTART:20260411T093000
DTEND:20260412T173000
SUMMARY:Secours Populaire Comité de Verrières Le Buisson — Braderie
DESCRIPTION:Bienvenue sur la page d'accueil du site internet officiel de la
  mairie de Verrières-le-Buisson. Situé à une dizaine de kilomètres au s
 ud...\n\nSamedi 11 Avril 2026\nde 9h30 à 17h30\n\nDimanche 12 Avril 2026\n
 de 9h30 à 17h30\n\nSecours Populaire Comité de Verrières Le Buisson\n913
 70 Verrières Le Buisson\n\nℹ️ Seul l'organisateur expose — aucun emp
 lacement à réserver
LOCATION:91370 Verrières Le Buisson
URL:https://bradeur.fr/braderie.php?slug=secours-populaire-comite-de-verrie
 res-le-buisson-braderie
END:VEVENT
END:VCALENDAR
