BEGIN:VCALENDAR
VERSION:2.0
PRODID:-//Bradeur.fr//FR
CALSCALE:GREGORIAN
METHOD:PUBLISH
BEGIN:VEVENT
UID:769-sepmeries-festif-brocante@bradeur.fr
DTSTAMP:20260426T022615Z
DTSTART:20260501T070000
DTEND:20260501T170000
SUMMARY:SEPMERIES FESTIF — Brocante
DESCRIPTION:Vendredi 1 Mai 2026\nde 7h00 à 17h00\n\nSEPMERIES FESTIF\n5962
 9 Sepmeries
LOCATION:59629 Sepmeries
URL:https://bradeur.fr/braderie.php?slug=sepmeries-festif-brocante
END:VEVENT
END:VCALENDAR
