BEGIN:VCALENDAR
VERSION:2.0
PRODID:-//Bradeur.fr//FR
CALSCALE:GREGORIAN
METHOD:PUBLISH
BEGIN:VEVENT
UID:784-sl-rallye-team-modelisme-a-vendin-les-bethune@bradeur.fr
DTSTAMP:20260425T193930Z
DTSTART:20260502T090000
DTEND:20260503T180000
SUMMARY:Sl Rallye Team Modelisme à Vendin Les Bethune
DESCRIPTION:Samedi 2 Mai 2026\nde 9h00 à 18h00\n\nDimanche 3 Mai 2026\nde 
 9h00 à 18h00\n\n62232 Vendin Les Bethune
LOCATION:62232 Vendin Les Bethune
URL:https://bradeur.fr/braderie.php?slug=sl-rallye-team-modelisme-a-vendin-
 les-bethune
END:VEVENT
END:VCALENDAR
