BEGIN:VCALENDAR
VERSION:2.0
PRODID:-//Bradeur.fr//FR
CALSCALE:GREGORIAN
METHOD:PUBLISH
BEGIN:VEVENT
UID:909-societe-de-chasse-des-sept-muids-brocante@bradeur.fr
DTSTAMP:20260426T032758Z
DTSTART:20260530T080000
DTEND:20260530T180000
SUMMARY:societé de chasse des sept muids — Brocante
DESCRIPTION:Samedi 30 Mai 2026\nde 8h00 à 18h00\n\nsocieté de chasse des 
 sept muids\n59234 Monchecourt
LOCATION:59234 Monchecourt
URL:https://bradeur.fr/braderie.php?slug=societe-de-chasse-des-sept-muids-b
 rocante
END:VEVENT
END:VCALENDAR
