BEGIN:VCALENDAR
VERSION:2.0
PRODID:-//Bradeur.fr//FR
CALSCALE:GREGORIAN
METHOD:PUBLISH
BEGIN:VEVENT
UID:640-solidarite-annezinoise-solidarite-annezinoise@bradeur.fr
DTSTAMP:20260425T180836Z
DTSTART:20260411T090000
DTEND:20260411T170000
SUMMARY:Solidarite Annezinoise — Solidarite Annezinoise
DESCRIPTION:Samedi 11 Avril 2026\nde 9h00 à 17h00\n\nSolidarite Annezinois
 e\n62232 Annezin\n\nℹ️ Seul l'organisateur expose — aucun emplacement
  à réserver
LOCATION:62232 Annezin
URL:https://bradeur.fr/braderie.php?slug=solidarite-annezinoise-solidarite-
 annezinoise
END:VEVENT
END:VCALENDAR
