BEGIN:VCALENDAR
VERSION:2.0
PRODID:-//Bradeur.fr//FR
CALSCALE:GREGORIAN
METHOD:PUBLISH
BEGIN:VEVENT
UID:902-sou-des-ecoles-vide-greniers@bradeur.fr
DTSTAMP:20260425T191252Z
DTSTART:20260524T073000
DTEND:20260524T170000
SUMMARY:sou des écoles — Vide-greniers
DESCRIPTION:Dimanche 24 Mai 2026\nde 7h30 à 17h00\n\nsou des écoles\n6921
 0 Bully
LOCATION:69210 Bully
URL:https://bradeur.fr/braderie.php?slug=sou-des-ecoles-vide-greniers
END:VEVENT
END:VCALENDAR
