BEGIN:VCALENDAR
VERSION:2.0
PRODID:-//Bradeur.fr//FR
CALSCALE:GREGORIAN
METHOD:PUBLISH
BEGIN:VEVENT
UID:601-supporter-es-vendin-puces@bradeur.fr
DTSTAMP:20260425T180005Z
DTSTART:20260404T070000
DTEND:20260418T170000
SUMMARY:Supporter ES Vendin — Puces
DESCRIPTION:Vendin-le-Vieil - Site Internet de la ville de Vendin-le-Vieil.
  Découvrez toutes les informations et les services de la ville de Vendin-l
 e-Vieil dans le Pas de Calais (62). Actualités, services, agenda, album ph
 oto... Retrouvez la vie de la commune de Vendin-le-Vieil.\n\nSamedi 4 Avril
  2026\nde 7h00 à 17h00\n\nSupporter ES Vendin\n62880 Vendin Le Vieil
LOCATION:62880 Vendin Le Vieil
URL:https://bradeur.fr/braderie.php?slug=supporter-es-vendin-puces
END:VEVENT
END:VCALENDAR
