BEGIN:VCALENDAR
VERSION:2.0
PRODID:-//Bradeur.fr//FR
CALSCALE:GREGORIAN
METHOD:PUBLISH
BEGIN:VEVENT
UID:500-tandem-events-france-bourse-collections@bradeur.fr
DTSTAMP:20260425T142158Z
DTSTART:20260313T080000
DTEND:20260314T150000
SUMMARY:Tandem Events France — Bourse Collections
DESCRIPTION:Pouilly-en-Auxois : toutes les actualités, horaires et service
 s de votre mairie à portée de main. Restez informé(e) et simplifiez vos 
 démarches quotidiennes !\n\nVendredi 13 Mars 2026\nde 8h00 à 15h00\n\nSam
 edi 14 Mars 2026\nde 8h00 à 15h00\n\nTandem Events France\n21320 Pouilly E
 n Auxois
LOCATION:21320 Pouilly En Auxois
URL:https://bradeur.fr/braderie.php?slug=tandem-events-france-bourse-collec
 tions
END:VEVENT
END:VCALENDAR
