BEGIN:VCALENDAR
VERSION:2.0
PRODID:-//Bradeur.fr//FR
CALSCALE:GREGORIAN
METHOD:PUBLISH
BEGIN:VEVENT
UID:512-tandem-events-france-tandem-events-geek@bradeur.fr
DTSTAMP:20260425T143023Z
DTSTART:20260314T090000
DTEND:20260315T170000
SUMMARY:Tandem Events France — Tandem Events Geek
DESCRIPTION:Pouilly-en-Auxois : toutes les actualités, horaires et service
 s de votre mairie à portée de main. Restez informé(e) et simplifiez vos 
 démarches quotidiennes !\n\nSamedi 14 Mars 2026\nde 9h00 à 17h00\n\nDiman
 che 15 Mars 2026\nde 9h00 à 17h00\n\nTandem Events France\n21320 Pouilly E
 n Auxois
LOCATION:21320 Pouilly En Auxois
URL:https://bradeur.fr/braderie.php?slug=tandem-events-france-tandem-events
 -geek
END:VEVENT
END:VCALENDAR
