BEGIN:VCALENDAR
VERSION:2.0
PRODID:-//Bradeur.fr//FR
CALSCALE:GREGORIAN
METHOD:PUBLISH
BEGIN:VEVENT
UID:587-tandem-events-france-tandem-events-geek-1@bradeur.fr
DTSTAMP:20260425T180857Z
DTSTART:20260328T090000
DTEND:20260329T170000
SUMMARY:Tandem Events France — Tandem Events Geek
DESCRIPTION:Samedi 28 Mars 2026\nde 9h00 à 17h00\n\nDimanche 29 Mars 2026\
 nde 9h00 à 17h00\n\nTandem Events France\n41330 Fossé
LOCATION:41330 Fossé
URL:https://bradeur.fr/braderie.php?slug=tandem-events-france-tandem-events
 -geek-1
END:VEVENT
END:VCALENDAR
