BEGIN:VCALENDAR
VERSION:2.0
PRODID:-//Bradeur.fr//FR
CALSCALE:GREGORIAN
METHOD:PUBLISH
BEGIN:VEVENT
UID:1041-tennis-de-table-de-saint-omer-brocante@bradeur.fr
DTSTAMP:20260425T221124Z
DTSTART:20260809T070000
DTEND:20260809T180000
SUMMARY:Tennis de Table de Saint-Omer — Brocante
DESCRIPTION:Ville de Saint‑Omer (62) : découvrez l’actualité municipa
 le, les démarches en ligne, l’agenda culturel et les services aux habita
 nts et visiteurs.\n\nDimanche 9 Août 2026\nde 7h00 à 18h00\n\nTennis de T
 able de Saint-Omer\n62500 Saint Omer
LOCATION:62500 Saint Omer
URL:https://bradeur.fr/braderie.php?slug=tennis-de-table-de-saint-omer-broc
 ante
END:VEVENT
END:VCALENDAR
