BEGIN:VCALENDAR
VERSION:2.0
PRODID:-//Bradeur.fr//FR
CALSCALE:GREGORIAN
METHOD:PUBLISH
BEGIN:VEVENT
UID:653-the-jackets-militaria-a-grand-reng@bradeur.fr
DTSTAMP:20260425T180724Z
DTSTART:20260411T070000
DTEND:20260411T130000
SUMMARY:The Jackets Militaria à Grand Reng
DESCRIPTION:Samedi 11 Avril 2026\nde 7h00 à 13h00\n\nGrand Reng
LOCATION:Grand Reng
URL:https://bradeur.fr/braderie.php?slug=the-jackets-militaria-a-grand-reng
END:VEVENT
END:VCALENDAR
