BEGIN:VCALENDAR
VERSION:2.0
PRODID:-//Bradeur.fr//FR
CALSCALE:GREGORIAN
METHOD:PUBLISH
BEGIN:VEVENT
UID:673-tous-pour-robyn-puces@bradeur.fr
DTSTAMP:20260425T204534Z
DTSTART:20260412T080000
DTEND:20260412T170000
SUMMARY:Tous pour Robyn — Puces
DESCRIPTION:Dimanche 12 Avril 2026\nde 8h00 à 17h00\n\nTous pour Robyn\n62
 540 Marles Les Mines
LOCATION:62540 Marles Les Mines
URL:https://bradeur.fr/braderie.php?slug=tous-pour-robyn-puces
END:VEVENT
END:VCALENDAR
