BEGIN:VCALENDAR
VERSION:2.0
PRODID:-//Bradeur.fr//FR
CALSCALE:GREGORIAN
METHOD:PUBLISH
BEGIN:VEVENT
UID:539-union-des-familles-vetements@bradeur.fr
DTSTAMP:20260425T180554Z
DTSTART:20260328T093000
DTEND:20260329T120000
SUMMARY:Union des familles — Vêtements
DESCRIPTION:Située dans le département du Nord, dans la région des Hauts
 -de-France, Neuville-en-Ferrain est une commune dynamique et chaleureuse de
  10 439 habitants.\n\nSamedi 28 Mars 2026\nde 9h30 à 12h00\n\nDimanche 29 
 Mars 2026\nde 14h00 à 17h30\n\nUnion des familles\n59960 Neuville En Ferra
 in
LOCATION:59960 Neuville En Ferrain
URL:https://bradeur.fr/braderie.php?slug=union-des-familles-vetements
END:VEVENT
END:VCALENDAR
