BEGIN:VCALENDAR
VERSION:2.0
PRODID:-//Bradeur.fr//FR
CALSCALE:GREGORIAN
METHOD:PUBLISH
BEGIN:VEVENT
UID:1043-usacs-vide-greniers@bradeur.fr
DTSTAMP:20260425T175954Z
DTSTART:20260815T060000
DTEND:20260815T140000
SUMMARY:USACS — Vide-greniers
DESCRIPTION:Somain est une commune française située dans le département 
 du département du Nord (59), en région Hauts-de-France.\n\nSamedi 15 Aoû
 t 2026\nde 6h00 à 14h00\n\nUSACS\n59490 Somain
LOCATION:59490 Somain
URL:https://bradeur.fr/braderie.php?slug=usacs-vide-greniers
END:VEVENT
END:VCALENDAR
