BEGIN:VCALENDAR
VERSION:2.0
PRODID:-//Bradeur.fr//FR
CALSCALE:GREGORIAN
METHOD:PUBLISH
BEGIN:VEVENT
UID:956-v-e-e-vivre-ensemble-a-esquermes-braderie@bradeur.fr
DTSTAMP:20260425T193432Z
DTSTART:20260614T080000
DTEND:20260614T150000
SUMMARY:V.E.E. Vivre Ensemble a Esquermes — Braderie
DESCRIPTION:Dimanche 14 Juin 2026\nde 8h00 à 15h00\n\nV.E.E. Vivre Ensembl
 e a Esquermes\n59000 Lille
LOCATION:59000 Lille
URL:https://bradeur.fr/braderie.php?slug=v-e-e-vivre-ensemble-a-esquermes-b
 raderie
END:VEVENT
END:VCALENDAR
