BEGIN:VCALENDAR
VERSION:2.0
PRODID:-//Bradeur.fr//FR
CALSCALE:GREGORIAN
METHOD:PUBLISH
BEGIN:VEVENT
UID:1142-vehicules-memoire-passion-vmpw-militaria@bradeur.fr
DTSTAMP:20260425T180730Z
DTSTART:20261129T080000
DTEND:20261129T140000
SUMMARY:Véhicules Mémoire Passion — Vmpw Militaria
DESCRIPTION:Mairie de Wingles 26, rue Jules Guesde BP 60065 62410 Wingles. 
 T: +33 (0)3.21.08.69.00. Horaires. Lundi : 9h-12h / 13h30-17h30\n\nDimanche
  29 Novembre 2026\nde 8h00 à 14h00\n\nVéhicules Mémoire Passion\n62410 W
 ingles
LOCATION:62410 Wingles
URL:https://bradeur.fr/braderie.php?slug=vehicules-memoire-passion-vmpw-mil
 itaria
END:VEVENT
END:VCALENDAR
