BEGIN:VCALENDAR
VERSION:2.0
PRODID:-//Bradeur.fr//FR
CALSCALE:GREGORIAN
METHOD:PUBLISH
BEGIN:VEVENT
UID:520-velooise-velo-a-venette@bradeur.fr
DTSTAMP:20260425T180416Z
DTSTART:20260321T100000
DTEND:20260321T190000
SUMMARY:Velooise Velo à Venette
DESCRIPTION:Achetez ou vendez un vélo d’occasion à l’occasion de cett
 e grande vente de vélos d’occasion. L’association VélOOise et son ate
 lier ABC-Vélo, La Recyclerie du Pays de Bray, Solicycle et des recycleries
  de l’Oise vous proposent plus de 150 vélos d’occasion vérifiés et p
 rêts à rouler déployés dans la galerie marchande du centre commercial C
 arrefour Venette.… Lire la suite »Foire aux vélos à Venette\n\n
LOCATION:60280 Venette
URL:https://bradeur.fr/braderie.php?slug=velooise-velo-a-venette
END:VEVENT
END:VCALENDAR
