BEGIN:VCALENDAR
VERSION:2.0
PRODID:-//Bradeur.fr//FR
CALSCALE:GREGORIAN
METHOD:PUBLISH
BEGIN:VEVENT
UID:1107-vetements-a-carnin-1@bradeur.fr
DTSTAMP:20260425T180133Z
DTSTART:20261010T080000
DTEND:20261010T160000
SUMMARY:Vêtements à Carnin
DESCRIPTION:Samedi 10 Octobre 2026\nde 8h00 à 16h00\n\n59112 Carnin
LOCATION:59112 Carnin
URL:https://bradeur.fr/braderie.php?slug=vetements-a-carnin-1
END:VEVENT
END:VCALENDAR
