BEGIN:VCALENDAR
VERSION:2.0
PRODID:-//Bradeur.fr//FR
CALSCALE:GREGORIAN
METHOD:PUBLISH
BEGIN:VEVENT
UID:1461-vide-grenier-6@bradeur.fr
DTSTAMP:20260425T175811Z
DTSTART:20260327T090000
DTEND:20260327T170000
SUMMARY:Vide grenier
DESCRIPTION:Samedi 7 Mars 2026\nde 9h00 à 17h00\n\nSéverine\n12 place Gé
 n Leclerc de Hautecloque\n76870 Gaillefontaine
LOCATION:12 place Gén Leclerc de Hautecloque, 76870 Gaillefontaine
URL:https://bradeur.fr/braderie.php?slug=vide-grenier-6
END:VEVENT
END:VCALENDAR
