BEGIN:VCALENDAR
VERSION:2.0
PRODID:-//Bradeur.fr//FR
CALSCALE:GREGORIAN
METHOD:PUBLISH
BEGIN:VEVENT
UID:2226-vide-grenier-alp@bradeur.fr
DTSTAMP:20260425T175837Z
DTSTART:20260412T080000
DTEND:20260412T160000
SUMMARY:Vide grenier alp
DESCRIPTION:Réservations et inscriptions par téléphone uniquement la sem
 aine précédant l'événement.\nEmplacement 5m : 10€ 10m : 15€\n\nDima
 nche 8 Mars 2026\nde 8h00 à 16h00\n\nAlp Puisserguier\n34620 Puisserguier\
 n\nParticulier : 5,00 €
LOCATION:34620 Puisserguier
URL:https://bradeur.fr/braderie.php?slug=vide-grenier-alp
END:VEVENT
END:VCALENDAR
