BEGIN:VCALENDAR
VERSION:2.0
PRODID:-//Bradeur.fr//FR
CALSCALE:GREGORIAN
METHOD:PUBLISH
BEGIN:VEVENT
UID:572-vide-greniers-a-abscon@bradeur.fr
DTSTAMP:20260425T175858Z
DTSTART:20260329T083000
DTEND:20260329T150000
SUMMARY:Vide-greniers à Abscon
DESCRIPTION:Dimanche 29 Mars 2026\nde 8h30 à 15h00\n\n59215 Abscon
LOCATION:59215 Abscon
URL:https://bradeur.fr/braderie.php?slug=vide-greniers-a-abscon
END:VEVENT
END:VCALENDAR
