BEGIN:VCALENDAR
VERSION:2.0
PRODID:-//Bradeur.fr//FR
CALSCALE:GREGORIAN
METHOD:PUBLISH
BEGIN:VEVENT
UID:763-vide-greniers-a-aix-les-orchies@bradeur.fr
DTSTAMP:20260426T022025Z
DTSTART:20260501T073000
DTEND:20260501T133000
SUMMARY:Vide-greniers à Aix Les Orchies
DESCRIPTION:Vendredi 1 Mai 2026\nde 7h30 à 13h30\n\n59310 Aix En Pévèle
LOCATION:59310 Aix En Pévèle
URL:https://bradeur.fr/braderie.php?slug=vide-greniers-a-aix-les-orchies
END:VEVENT
END:VCALENDAR
