BEGIN:VCALENDAR
VERSION:2.0
PRODID:-//Bradeur.fr//FR
CALSCALE:GREGORIAN
METHOD:PUBLISH
BEGIN:VEVENT
UID:729-vide-greniers-a-annoeullin@bradeur.fr
DTSTAMP:20260425T174558Z
DTSTART:20260426T080000
DTEND:20260426T130000
SUMMARY:Vide-greniers à Annoeullin
DESCRIPTION:Dimanche 26 Avril 2026\nde 8h00 à 13h00\n\n59112 Annoeullin
LOCATION:59112 Annoeullin
URL:https://bradeur.fr/braderie.php?slug=vide-greniers-a-annoeullin
END:VEVENT
END:VCALENDAR
