BEGIN:VCALENDAR
VERSION:2.0
PRODID:-//Bradeur.fr//FR
CALSCALE:GREGORIAN
METHOD:PUBLISH
BEGIN:VEVENT
UID:699-vide-greniers-a-arleux-en-gohelle@bradeur.fr
DTSTAMP:20260425T180549Z
DTSTART:20260418T090000
DTEND:20260418T150000
SUMMARY:Vide-greniers à Arleux En Gohelle
DESCRIPTION:Samedi 18 Avril 2026\nde 9h00 à 15h00\n\n62580 Arleux En Gohel
 le
LOCATION:62580 Arleux En Gohelle
URL:https://bradeur.fr/braderie.php?slug=vide-greniers-a-arleux-en-gohelle
END:VEVENT
END:VCALENDAR
