BEGIN:VCALENDAR
VERSION:2.0
PRODID:-//Bradeur.fr//FR
CALSCALE:GREGORIAN
METHOD:PUBLISH
BEGIN:VEVENT
UID:923-vide-greniers-a-avelin@bradeur.fr
DTSTAMP:20260425T204534Z
DTSTART:20260606T130000
DTEND:20260606T190000
SUMMARY:Vide-greniers à Avelin
DESCRIPTION:Samedi 6 Juin 2026\nde 13h00 à 19h00\n\n59710 Avelin
LOCATION:59710 Avelin
URL:https://bradeur.fr/braderie.php?slug=vide-greniers-a-avelin
END:VEVENT
END:VCALENDAR
