BEGIN:VCALENDAR
VERSION:2.0
PRODID:-//Bradeur.fr//FR
CALSCALE:GREGORIAN
METHOD:PUBLISH
BEGIN:VEVENT
UID:708-vide-greniers-a-bavay@bradeur.fr
DTSTAMP:20260425T175954Z
DTSTART:20260419T090000
DTEND:20260419T170000
SUMMARY:Vide-greniers à Bavay
DESCRIPTION:Dimanche 19 Avril 2026\nde 9h00 à 17h00\n\n59570 Bavay
LOCATION:59570 Bavay
URL:https://bradeur.fr/braderie.php?slug=vide-greniers-a-bavay
END:VEVENT
END:VCALENDAR
