BEGIN:VCALENDAR
VERSION:2.0
PRODID:-//Bradeur.fr//FR
CALSCALE:GREGORIAN
METHOD:PUBLISH
BEGIN:VEVENT
UID:623-vide-greniers-a-beuvrages@bradeur.fr
DTSTAMP:20260425T180123Z
DTSTART:20260406T080000
DTEND:20260406T180000
SUMMARY:Vide-greniers à Beuvrages
DESCRIPTION:Lundi 6 Avril 2026\nde 8h00 à 18h00\n\n59192 Beuvrages
LOCATION:59192 Beuvrages
URL:https://bradeur.fr/braderie.php?slug=vide-greniers-a-beuvrages
END:VEVENT
END:VCALENDAR
