BEGIN:VCALENDAR
VERSION:2.0
PRODID:-//Bradeur.fr//FR
CALSCALE:GREGORIAN
METHOD:PUBLISH
BEGIN:VEVENT
UID:715-vide-greniers-a-bienvillers-au-bois@bradeur.fr
DTSTAMP:20260425T180730Z
DTSTART:20260419T080000
DTEND:20260419T130000
SUMMARY:Vide-greniers à Bienvillers Au Bois
DESCRIPTION:Dimanche 19 Avril 2026\nde 8h00 à 13h00\n\n62111 Bienvillers A
 u Bois
LOCATION:62111 Bienvillers Au Bois
URL:https://bradeur.fr/braderie.php?slug=vide-greniers-a-bienvillers-au-boi
 s
END:VEVENT
END:VCALENDAR
