BEGIN:VCALENDAR
VERSION:2.0
PRODID:-//Bradeur.fr//FR
CALSCALE:GREGORIAN
METHOD:PUBLISH
BEGIN:VEVENT
UID:799-vide-greniers-a-bruay-la-buissiere@bradeur.fr
DTSTAMP:20260425T205812Z
DTSTART:20260503T080000
DTEND:20260503T180000
SUMMARY:Vide-greniers Ã  Bruay La Buissiere
DESCRIPTION:Dimanche 3 Mai 2026\nde 8h00 Ã  18h00\n\n62700 Bruay La BuissiÃ
 ¨re
LOCATION:62700 Bruay La BuissiÃ¨re
URL:https://bradeur.fr/braderie.php?slug=vide-greniers-a-bruay-la-buissiere
END:VEVENT
END:VCALENDAR
