BEGIN:VCALENDAR
VERSION:2.0
PRODID:-//Bradeur.fr//FR
CALSCALE:GREGORIAN
METHOD:PUBLISH
BEGIN:VEVENT
UID:670-vide-greniers-a-calais@bradeur.fr
DTSTAMP:20260425T175954Z
DTSTART:20260412T070000
DTEND:20260510T170000
SUMMARY:Vide-greniers à Calais
DESCRIPTION:Dimanche 12 Avril 2026\nde 7h00 à 17h00\n\n62100 Calais
LOCATION:62100 Calais
URL:https://bradeur.fr/braderie.php?slug=vide-greniers-a-calais
END:VEVENT
END:VCALENDAR
