BEGIN:VCALENDAR
VERSION:2.0
PRODID:-//Bradeur.fr//FR
CALSCALE:GREGORIAN
METHOD:PUBLISH
BEGIN:VEVENT
UID:599-vide-greniers-a-fouquieres-les-lens@bradeur.fr
DTSTAMP:20260425T180841Z
DTSTART:20260404T090000
DTEND:20260412T170000
SUMMARY:Vide-greniers à Fouquieres Les Lens
DESCRIPTION:Samedi 4 Avril 2026\nde 9h00 à 17h00\n\n62740 Fouquières Les 
 Lens
LOCATION:62740 Fouquières Les Lens
URL:https://bradeur.fr/braderie.php?slug=vide-greniers-a-fouquieres-les-len
 s
END:VEVENT
END:VCALENDAR
