BEGIN:VCALENDAR
VERSION:2.0
PRODID:-//Bradeur.fr//FR
CALSCALE:GREGORIAN
METHOD:PUBLISH
BEGIN:VEVENT
UID:973-vide-greniers-a-la-chapelle-armentieres@bradeur.fr
DTSTAMP:20260425T191647Z
DTSTART:20260621T070000
DTEND:20260621T153000
SUMMARY:Vide-greniers à La Chapelle Armentieres
DESCRIPTION:Dimanche 21 Juin 2026\nde 7h00 à 15h30\n\n59930 La Chapelle D'
 armentieres
LOCATION:59930 La Chapelle D'armentieres
URL:https://bradeur.fr/braderie.php?slug=vide-greniers-a-la-chapelle-arment
 ieres
END:VEVENT
END:VCALENDAR
