BEGIN:VCALENDAR
VERSION:2.0
PRODID:-//Bradeur.fr//FR
CALSCALE:GREGORIAN
METHOD:PUBLISH
BEGIN:VEVENT
UID:756-vide-greniers-a-la-roque-antheron@bradeur.fr
DTSTAMP:20260425T174642Z
DTSTART:20260426T060000
DTEND:20260426T170000
SUMMARY:Vide-greniers Ã  La Roque Antheron
DESCRIPTION:Depuis 1973, notre Ã©tablissement, l'ESAT la Farigoule, est spÃ
 ©cialisÃ© dans la sous-traitance industrielle. Nous exerÃ§ons dans des doma
 ines variÃ©s tels que les emballages, les palettes de manutention, le monta
 ge de matÃ©riel Ã©lectrique, la menuiserie, le faÃ§onnage et la confection 
 textile. Dans le but d'intÃ©grer les personnes Ã  mobilitÃ© rÃ©duite dans l
 e monde du travail, nous faisons un accompagnemen
LOCATION:13640 La Roque D'anthÃ©ron
URL:https://bradeur.fr/braderie.php?slug=vide-greniers-a-la-roque-antheron
END:VEVENT
END:VCALENDAR
