BEGIN:VCALENDAR
VERSION:2.0
PRODID:-//Bradeur.fr//FR
CALSCALE:GREGORIAN
METHOD:PUBLISH
BEGIN:VEVENT
UID:881-vide-greniers-a-lambersart@bradeur.fr
DTSTAMP:20260425T205024Z
DTSTART:20260523T130000
DTEND:20260523T190000
SUMMARY:Vide-greniers à Lambersart
DESCRIPTION:L'Unadev est une association nationale reconnue d'assistance et
  de bienfaisance dont le cœur de métier est l'aide aux personnes aveugles
  et malvoyantes. Depuis plus de 80 ans, l'association se donne 3 missions :
  accompagner, prévenir et plaider.\n\nSamedi 23 Mai 2026\nde 13h00 à 19h0
 0\n\nUnadev - Union Nationale des Aveugles et Déficients Visuels\n59130 La
 mbersart
LOCATION:59130 Lambersart
URL:https://bradeur.fr/braderie.php?slug=vide-greniers-a-lambersart
END:VEVENT
END:VCALENDAR
