BEGIN:VCALENDAR
VERSION:2.0
PRODID:-//Bradeur.fr//FR
CALSCALE:GREGORIAN
METHOD:PUBLISH
BEGIN:VEVENT
UID:724-vide-greniers-a-lievin@bradeur.fr
DTSTAMP:20260425T191000Z
DTSTART:20260425T090000
DTEND:20260425T170000
SUMMARY:Vide-greniers à Lievin
DESCRIPTION:Samedi 25 Avril 2026\nde 9h00 à 17h00\n\n62800 Lievin
LOCATION:62800 Lievin
URL:https://bradeur.fr/braderie.php?slug=vide-greniers-a-lievin
END:VEVENT
END:VCALENDAR
