BEGIN:VCALENDAR
VERSION:2.0
PRODID:-//Bradeur.fr//FR
CALSCALE:GREGORIAN
METHOD:PUBLISH
BEGIN:VEVENT
UID:744-vide-greniers-a-louvroil@bradeur.fr
DTSTAMP:20260425T173613Z
DTSTART:20260426T080000
DTEND:20260426T180000
SUMMARY:Vide-greniers à Louvroil
DESCRIPTION:Dimanche 26 Avril 2026\nde 8h00 à 18h00\n\n59720 Louvroil
LOCATION:59720 Louvroil
URL:https://bradeur.fr/braderie.php?slug=vide-greniers-a-louvroil
END:VEVENT
END:VCALENDAR
