BEGIN:VCALENDAR
VERSION:2.0
PRODID:-//Bradeur.fr//FR
CALSCALE:GREGORIAN
METHOD:PUBLISH
BEGIN:VEVENT
UID:496-vide-greniers-a-meurchin@bradeur.fr
DTSTAMP:20260425T180052Z
DTSTART:20260314T080000
DTEND:20260412T150000
SUMMARY:Vide-greniers à Meurchin
DESCRIPTION:Samedi 14 Mars 2026\nde 8h00 à 15h00\n\n62410 Meurchin
LOCATION:62410 Meurchin
URL:https://bradeur.fr/braderie.php?slug=vide-greniers-a-meurchin
END:VEVENT
END:VCALENDAR
