BEGIN:VCALENDAR
VERSION:2.0
PRODID:-//Bradeur.fr//FR
CALSCALE:GREGORIAN
METHOD:PUBLISH
BEGIN:VEVENT
UID:501-vide-greniers-a-mons-en-baroeul@bradeur.fr
DTSTAMP:20260425T210124Z
DTSTART:20260315T080000
DTEND:20260315T140000
SUMMARY:Vide-greniers à Mons En Baroeul
DESCRIPTION:Dimanche 15 Mars 2026\nde 8h00 à 14h00\n\n59370 Mons En Baroeu
 l
LOCATION:59370 Mons En Baroeul
URL:https://bradeur.fr/braderie.php?slug=vide-greniers-a-mons-en-baroeul
END:VEVENT
END:VCALENDAR
