BEGIN:VCALENDAR
VERSION:2.0
PRODID:-//Bradeur.fr//FR
CALSCALE:GREGORIAN
METHOD:PUBLISH
BEGIN:VEVENT
UID:579-vide-greniers-a-oye-plage@bradeur.fr
DTSTAMP:20260425T180052Z
DTSTART:20260328T080000
DTEND:20260329T170000
SUMMARY:Vide-greniers à Oye Plage
DESCRIPTION:Samedi 28 Mars 2026\nde 8h00 à 17h00\n\nDimanche 29 Mars 2026\
 nde 16h00 à 18h00\n\n62215 Oye Plage
LOCATION:62215 Oye Plage
URL:https://bradeur.fr/braderie.php?slug=vide-greniers-a-oye-plage
END:VEVENT
END:VCALENDAR
