BEGIN:VCALENDAR
VERSION:2.0
PRODID:-//Bradeur.fr//FR
CALSCALE:GREGORIAN
METHOD:PUBLISH
BEGIN:VEVENT
UID:526-vide-greniers-a-saint-folquin@bradeur.fr
DTSTAMP:20260425T180200Z
DTSTART:20260322T080000
DTEND:20260322T180000
SUMMARY:Vide-greniers à Saint Folquin
DESCRIPTION:Dimanche 22 Mars 2026\nde 8h00 à 18h00\n\n62370 Saint Folquin
LOCATION:62370 Saint Folquin
URL:https://bradeur.fr/braderie.php?slug=vide-greniers-a-saint-folquin
END:VEVENT
END:VCALENDAR
