BEGIN:VCALENDAR
VERSION:2.0
PRODID:-//Bradeur.fr//FR
CALSCALE:GREGORIAN
METHOD:PUBLISH
BEGIN:VEVENT
UID:674-vide-greniers-a-verquin@bradeur.fr
DTSTAMP:20260425T180016Z
DTSTART:20260412T080000
DTEND:20260412T140000
SUMMARY:Vide-greniers à Verquin
DESCRIPTION:Dimanche 12 Avril 2026\nde 8h00 à 14h00\n\n62131 Verquin
LOCATION:62131 Verquin
URL:https://bradeur.fr/braderie.php?slug=vide-greniers-a-verquin
END:VEVENT
END:VCALENDAR
