BEGIN:VCALENDAR
VERSION:2.0
PRODID:-//Bradeur.fr//FR
CALSCALE:GREGORIAN
METHOD:PUBLISH
BEGIN:VEVENT
UID:793-vide-greniers-a-wattrelos@bradeur.fr
DTSTAMP:20260425T191109Z
DTSTART:20260503T060000
DTEND:20260503T170000
SUMMARY:Vide-greniers à Wattrelos
DESCRIPTION:Dimanche 3 Mai 2026\nde 6h00 à 17h00\n\n59150 Wattrelos
LOCATION:59150 Wattrelos
URL:https://bradeur.fr/braderie.php?slug=vide-greniers-a-wattrelos
END:VEVENT
END:VCALENDAR
