BEGIN:VCALENDAR
VERSION:2.0
PRODID:-//Bradeur.fr//FR
CALSCALE:GREGORIAN
METHOD:PUBLISH
BEGIN:VEVENT
UID:1503-vide-greniers-koteba@bradeur.fr
DTSTAMP:20260425T175954Z
DTSTART:20260404T080000
DTEND:20260404T123000
SUMMARY:Vide-greniers koteba
DESCRIPTION:Ouvert à tous\nparking attenant\nannulé si pluie à 7h\nEmpla
 cement avec voiture de 4m sur 5m environ\nsur réservation arrivée des exp
 osants avant 8h\npaiement sur place\nannulé si pluie à 7h\n\nSamedi 7 Mar
 s 2026\nde 8h00 à 12h30\n\nAssociation Humanitaire Koteba\nchemin de Sapor
 ta Mas de Saporta\n34970 Lattes\n\nParticulier : 4,00 €
LOCATION:chemin de Saporta Mas de Saporta, 34970 Lattes
URL:https://bradeur.fr/braderie.php?slug=vide-greniers-koteba
END:VEVENT
END:VCALENDAR
