BEGIN:VCALENDAR
VERSION:2.0
PRODID:-//Bradeur.fr//FR
CALSCALE:GREGORIAN
METHOD:PUBLISH
BEGIN:VEVENT
UID:2073-vide-maison-180@bradeur.fr
DTSTAMP:20260425T175836Z
DTSTART:20260405T093000
DTEND:20260405T180000
SUMMARY:Vide-Maison
DESCRIPTION:Dimanche 8 Mars 2026\nde 9h30 à 18h00\n\nolivier aubert\n19 ro
 ute de Bagnoles\n61600 La Ferté Macé
LOCATION:19 route de Bagnoles, 61600 La Ferté Macé
URL:https://bradeur.fr/braderie.php?slug=vide-maison-180
END:VEVENT
END:VCALENDAR
