BEGIN:VCALENDAR
VERSION:2.0
PRODID:-//Bradeur.fr//FR
CALSCALE:GREGORIAN
METHOD:PUBLISH
BEGIN:VEVENT
UID:557-videdressing-apel-gmail-com-apel-ndl-vide-dressings@bradeur.fr
DTSTAMP:20260425T180554Z
DTSTART:20260329T090000
DTEND:20260329T163000
SUMMARY:videdressing.apel@gmail.com — Apel Ndl Vide Dressings
DESCRIPTION:Site officiel de Cœur de Flandre agglo - Retrouvez tous les se
 rvices, les infos pratiques, les actualités et événements de l'intercomm
 unalité\n\nDimanche 29 Mars 2026\nde 9h00 à 16h30\n\nvidedressing.apel@gm
 ail.com\n59114 Steenvoorde
LOCATION:59114 Steenvoorde
URL:https://bradeur.fr/braderie.php?slug=videdressing-apel-gmail-com-apel-n
 dl-vide-dressings
END:VEVENT
END:VCALENDAR
