BEGIN:VCALENDAR
VERSION:2.0
PRODID:-//Bradeur.fr//FR
CALSCALE:GREGORIAN
METHOD:PUBLISH
BEGIN:VEVENT
UID:608-ville-de-raimbeaucourt-brocante@bradeur.fr
DTSTAMP:20260425T180508Z
DTSTART:20260405T080000
DTEND:20260405T130000
SUMMARY:Ville de Raimbeaucourt — Brocante
DESCRIPTION:Dimanche 5 Avril 2026\nde 8h00 à 13h00\n\nVille de Raimbeaucou
 rt\n59283 Raimbeaucourt
LOCATION:59283 Raimbeaucourt
URL:https://bradeur.fr/braderie.php?slug=ville-de-raimbeaucourt-brocante
END:VEVENT
END:VCALENDAR
